BEGIN:VCALENDAR
VERSION:2.0
PRODID:-//Masters Swimming - ECPv4.9.5//NONSGML v1.0//EN
CALSCALE:GREGORIAN
METHOD:PUBLISH
X-WR-CALNAME:Masters Swimming
X-ORIGINAL-URL:https://mastersswimming.org.au
X-WR-CALDESC:Events for Masters Swimming
BEGIN:VTIMEZONE
TZID:"Australia/Melbourne"
BEGIN:STANDARD
TZOFFSETFROM:+1100
TZOFFSETTO:+1000
TZNAME:AEST
DTSTART:20200404T160000
END:STANDARD
BEGIN:DAYLIGHT
TZOFFSETFROM:+1000
TZOFFSETTO:+1100
TZNAME:AEDT
DTSTART:20201003T160000
END:DAYLIGHT
END:VTIMEZONE
BEGIN:VEVENT
DTSTART;TZID="Australia/Melbourne":20200501T080000
DTEND;TZID="Australia/Melbourne":20200630T170000
DTSTAMP:20200302T074112
CREATED:20200120T033105Z
LAST-MODIFIED:20200120T033105Z
UID:3199-1588320000-1593536400@mastersswimming.org.au
SUMMARY:Bunbury Masters 2020 Winter 3x400m Postal Swim
DESCRIPTION: \nMore details to come \n
URL:https://mastersswimming.org.au/event/bunbury-masters-2020-winter-3x400m-postal-swim/
CATEGORIES:Postal Swims,Sanctioned Meets
END:VEVENT
END:VCALENDAR