BEGIN:VCALENDAR
VERSION:2.0
PRODID:-//Masters Swimming - ECPv4.9.5//NONSGML v1.0//EN
CALSCALE:GREGORIAN
METHOD:PUBLISH
X-WR-CALNAME:Masters Swimming
X-ORIGINAL-URL:https://mastersswimming.org.au
X-WR-CALDESC:Events for Masters Swimming
BEGIN:VTIMEZONE
TZID:"Australia/Melbourne"
BEGIN:STANDARD
TZOFFSETFROM:+1100
TZOFFSETTO:+1000
TZNAME:AEST
DTSTART:20190406T160000
END:STANDARD
BEGIN:DAYLIGHT
TZOFFSETFROM:+1000
TZOFFSETTO:+1100
TZNAME:AEDT
DTSTART:20191005T160000
END:DAYLIGHT
END:VTIMEZONE
BEGIN:VEVENT
DTSTART;TZID="Australia/Melbourne":20190805T080000
DTEND;TZID="Australia/Melbourne":20190815T170000
DTSTAMP:20200302T075541
CREATED:20181101T095656Z
LAST-MODIFIED:20190724T020458Z
UID:1864-1564992000-1565888400@mastersswimming.org.au
SUMMARY:FINA World Championships - all the best
DESCRIPTION:\nThe 18th FINA World Masters Championships will be held in Gwangju\, South Korea\nOpening Ceremony 11 August 2019\nOpen Water Swimming: 9\, 10 and 11 August 2019\nSwimming 12\, 13\, 14\, 15\, 16\, 17 and 18 August 2019\n\n\n\n\n\n\n\n\n\n\n\n\n\nSwimming Entry List Download\n\n\nOpen Water Swimming Entry List Download\n\n\n\n\n\n\n\n\n\n\n\n\nTo be held at: NAMBU UNIVERSITY INTERNATIONAL AQUATICS CENTER\, JINWOL INTERNATIONAL TENNIS COURT\, JANGSEONG LAKE\nGwangju\, known as the “City of Peace”\, is a metropolitan city full of vitality and excitement.  It is nestled in the Southwestern part of of the Korean Peninsula.\nFor more info visit FINA website. \n  \n\n\n\n\nSchedules\n\n\nTravel Information\n\n\n\nFor more info visit FINA website. \nSports Schedule – Page 1 \nSports Schedule – Page 2 \nQualifying Times \n \nInterested in going but not sure where to start then check out IST (International Sports Tours) options. \nTour Brochure FINA Masters With Athletes Village \nBooking Form And Itinerary Planner \n  \n \n\n\n\n  \nWant to keep up to date with what is happening in Gwangju in the lead up to the Championships – then check out our wonderful Australian Ambassador to the Fina Worlds Masters Championships in Gwangju – Tony Goodwin’s blog HERE \n  \n \n
URL:https://mastersswimming.org.au/event/fina-world-championships/
LOCATION:Nambu University International Aquatics Center\, Korea\, Republic of
CATEGORIES:Open Water Swimming,Sanctioned Meets
END:VEVENT
END:VCALENDAR