BEGIN:VCALENDAR
VERSION:2.0
PRODID:-//Masters Swimming - ECPv4.9.5//NONSGML v1.0//EN
CALSCALE:GREGORIAN
METHOD:PUBLISH
X-WR-CALNAME:Masters Swimming
X-ORIGINAL-URL:https://mastersswimming.org.au
X-WR-CALDESC:Events for Masters Swimming
BEGIN:VTIMEZONE
TZID:"Australia/Melbourne"
BEGIN:STANDARD
TZOFFSETFROM:+1100
TZOFFSETTO:+1000
TZNAME:AEST
DTSTART:20200404T160000
END:STANDARD
BEGIN:DAYLIGHT
TZOFFSETFROM:+1000
TZOFFSETTO:+1100
TZNAME:AEDT
DTSTART:20201003T160000
END:DAYLIGHT
END:VTIMEZONE
BEGIN:VEVENT
DTSTART;TZID="Australia/Melbourne":20200901T080000
DTEND;TZID="Australia/Melbourne":20201130T170000
DTSTAMP:20200302T074206
CREATED:20200120T234822Z
LAST-MODIFIED:20200120T234831Z
UID:3214-1598947200-1606755600@mastersswimming.org.au
SUMMARY:Swimming Up Hills - Postal Swim
DESCRIPTION:More details to come. \n
URL:https://mastersswimming.org.au/event/swimming-up-hills-2/
CATEGORIES:Postal Swims,Sanctioned Meets
END:VEVENT
END:VCALENDAR