BEGIN:VCALENDAR
VERSION:2.0
PRODID:-//Masters Swimming - ECPv4.9.5//NONSGML v1.0//EN
CALSCALE:GREGORIAN
METHOD:PUBLISH
X-WR-CALNAME:Masters Swimming
X-ORIGINAL-URL:https://mastersswimming.org.au
X-WR-CALDESC:Events for Masters Swimming
BEGIN:VTIMEZONE
TZID:"Australia/Melbourne"
BEGIN:STANDARD
TZOFFSETFROM:+1100
TZOFFSETTO:+1000
TZNAME:AEST
DTSTART:20200404T160000
END:STANDARD
BEGIN:DAYLIGHT
TZOFFSETFROM:+1000
TZOFFSETTO:+1100
TZNAME:AEDT
DTSTART:20201003T160000
END:DAYLIGHT
END:VTIMEZONE
BEGIN:VEVENT
DTSTART;TZID="Australia/Melbourne":20200701T080000
DTEND;TZID="Australia/Melbourne":20200831T170000
DTSTAMP:20200302T074128
CREATED:20200120T233521Z
LAST-MODIFIED:20200120T233521Z
UID:3207-1593590400-1598893200@mastersswimming.org.au
SUMMARY:Tuggeranong Trifecta
DESCRIPTION: \nTUGGERANONG TRIFECTA Postal Swim July-August 2020\nThree swims\, each in a different stroke: 400m\, 800m\, 1500m Entry fee: $25 per swimmer \n\n\n\n\nWelcome to Tuggeranong Masters Swimming ACT’s postal swim! \nThis one will warm you up. Just the thing for those wintry days! Double dip – a postal swim for you\, and some Endurance 1000 points for your club. \nNew for 2020! All participants will receive a fabulous gold and red silicone ‘Rampage of Vikings’ swim cap as well as a certificate. \n \n\n\n\nEntry Conditions \n\nAll three swims must be completed between 1 July 2020 and 31 August 2020.\nYou do not have to complete all swims in one day.\nEach swim must be in a different stroke\, and individual medley is allowed for 400m or 800m.\nSwims may be completed in either a 25m or 50m pool. Only one entry per swimmer. Entries must be signed by a club official\, e.g. secretary\, president\, recorder.\nEntries must be postmarked/sent no later than Sunday\, 13 September 2020.\nSwimmers must be financial members of Masters Swimming Australia\, or of their own country’s official masters swimming national body.\n\nPlease send all entries from one club together via your club coordinator. \nENTRY FORM \nSend entries electronically by email to: aussivikings@gmail.com\nPayment by bank transfer to:\nTuggeranong Masters Swimming ACT\nSt George Bank\nBSB 112-908\nAccount Number 484 809 534 \nOR Send entries by post to:\nPostal Swim Coordinator Tuggeranong Masters Swimming ACT\nPO Box 113\nERINDALE CENTRE\nACT 2903 \nCheques should be made payable to Tuggeranong Masters Swimming ACT. \n
URL:https://mastersswimming.org.au/event/tuggeranong-trifecta-2/
CATEGORIES:Postal Swims,Sanctioned Meets
END:VEVENT
END:VCALENDAR