BEGIN:VCALENDAR
VERSION:2.0
PRODID:-//Masters Swimming - ECPv4.9.5//NONSGML v1.0//EN
CALSCALE:GREGORIAN
METHOD:PUBLISH
X-WR-CALNAME:Masters Swimming
X-ORIGINAL-URL:https://mastersswimming.org.au
X-WR-CALDESC:Events for Masters Swimming
BEGIN:VTIMEZONE
TZID:"Australia/Melbourne"
BEGIN:STANDARD
TZOFFSETFROM:+1100
TZOFFSETTO:+1000
TZNAME:AEST
DTSTART:20210403T160000
END:STANDARD
BEGIN:DAYLIGHT
TZOFFSETFROM:+1000
TZOFFSETTO:+1100
TZNAME:AEDT
DTSTART:20211002T160000
END:DAYLIGHT
BEGIN:STANDARD
TZOFFSETFROM:+1100
TZOFFSETTO:+1000
TZNAME:AEST
DTSTART:20220402T160000
END:STANDARD
BEGIN:DAYLIGHT
TZOFFSETFROM:+1000
TZOFFSETTO:+1100
TZNAME:AEDT
DTSTART:20221001T160000
END:DAYLIGHT
END:VTIMEZONE
BEGIN:VEVENT
DTSTART;TZID="Australia/Melbourne":20210320T133000
DTEND;TZID="Australia/Melbourne":20210321T170000
DTSTAMP:20210224T234412
CREATED:20201123T012425Z
LAST-MODIFIED:20201123T012425Z
UID:4336-1616247000-1616346000@mastersswimming.org.au
SUMMARY:2021 MST Summer Championships
DESCRIPTION:
URL:https://mastersswimmingtasmania.com.au/event/2021-summer-championships/
CATEGORIES:Branch Championships,Sanctioned Meets
END:VEVENT
BEGIN:VEVENT
DTSTART;TZID="Australia/Melbourne":20210327T080000
DTEND;TZID="Australia/Melbourne":20210328T170000
DTSTAMP:20210224T234412
CREATED:20201123T013248Z
LAST-MODIFIED:20201208T224618Z
UID:4342-1616832000-1616950800@mastersswimming.org.au
SUMMARY:WA State Championships 2021 (Mandurah) - 2021 MSA Swim Series #1
DESCRIPTION:
URL:https://mswa.asn.au/event/wa-state-championships-2021-mandurah/#new_tab
CATEGORIES:Branch Championships,MSA Swim Series,Sanctioned Meets
END:VEVENT
BEGIN:VEVENT
DTSTART;TZID="Australia/Melbourne":20210401T080000
DTEND;TZID="Australia/Melbourne":20210630T170000
DTSTAMP:20210224T234412
CREATED:20201221T034256Z
LAST-MODIFIED:20210201T222354Z
UID:4621-1617264000-1625072400@mastersswimming.org.au
SUMMARY:Baddaginnie Animal Postal Swim
DESCRIPTION:THE ANIMAL IS BACK \n34rd year anniversary of the Baddaginnie Animal Postal Swim. \nRevived by Surrey Park Seahorses. \nUnleash the animal within by swimming the following 5 events in one day \n200m Fly    200m Back   200m Breast \n400m IM   and   800m Free \n  \n			\n				\n					\n						\n							\n							Loading...\n						\n					\n					\n						\n							\n							Taking too long?\n						\n						\n							\n								 Reload document							\n							|\n							\n								 Open in new tab							\n					\n				\n			\n		Download  \n
URL:https://mastersswimming.org.au/event/baddaginnie-animal-postal-swim/
CATEGORIES:Postal Swims
END:VEVENT
BEGIN:VEVENT
DTSTART;TZID="Australia/Melbourne":20210409T080000
DTEND;TZID="Australia/Melbourne":20210411T170000
DTSTAMP:20210224T234412
CREATED:20201123T011540Z
LAST-MODIFIED:20201208T224508Z
UID:4328-1617955200-1618160400@mastersswimming.org.au
SUMMARY:MSQ State Championships 2021 - 2021 MSA Swim Series #2
DESCRIPTION:
URL:https://mastersswimmingqld.org.au/event/msq-state-championships-2021/#new_tab
CATEGORIES:Branch Championships,MSA Swim Series,Sanctioned Meets
END:VEVENT
BEGIN:VEVENT
DTSTART;TZID="Australia/Melbourne":20210417T080000
DTEND;TZID="Australia/Melbourne":20210418T170000
DTSTAMP:20210224T234412
CREATED:20201208T224020Z
LAST-MODIFIED:20201208T224149Z
UID:4446-1618646400-1618765200@mastersswimming.org.au
SUMMARY:MSNT LC Championships 2021 - 2021 MSA Swim Series #3
DESCRIPTION:Part of the MSA 2021 Swim Series  \nMore Details to Come \n
URL:https://mastersswimming.org.au/event/msnt-lc-championships-2021/
CATEGORIES:Branch Championships,MSA Swim Series,Sanctioned Meets
END:VEVENT
BEGIN:VEVENT
DTSTART;TZID="Australia/Melbourne":20210501T080000
DTEND;TZID="Australia/Melbourne":20210630T170000
DTSTAMP:20210224T234412
CREATED:20201216T032639Z
LAST-MODIFIED:20201216T033622Z
UID:4574-1619856000-1625072400@mastersswimming.org.au
SUMMARY:Bunbury Masters Winter 3x400 Postal Swims
DESCRIPTION: \nSanction number: PS04/2021 \nThe Bunbury Masters Winter PS is back for another year! \nEntry details and flyer to come. \nIf you are not a regular endurance swimmer\, this Postal Swim may be the motivation you need to improve your fitness and/or swimming skills – with a little more to aim for than just doing laps! \nEncourage your club members to join you in improving your personal best times. \nCompetitors are required to be financial Masters Swimming Australia members or financial members of another country’s official Masters Swimming National Body. \nWe look forward to hearing from you and happy swimming! \n
URL:https://mastersswimming.org.au/event/bunbury-masters-winter-3x400-postal-swims/
CATEGORIES:Postal Swims
END:VEVENT
BEGIN:VEVENT
DTSTART;TZID="Australia/Melbourne":20210520T080000
DTEND;TZID="Australia/Melbourne":20210522T170000
DTSTAMP:20210224T234412
CREATED:20201123T011744Z
LAST-MODIFIED:20201208T224405Z
UID:4330-1621497600-1621702800@mastersswimming.org.au
SUMMARY:Great Barrier Reef Masters Games 2021 - 2021 MSA Swim Series #4
DESCRIPTION:
URL:https://mastersswimmingqld.org.au/event/great-barrier-reef-masters-games-2021/
CATEGORIES:Branch Championships,Masters Games,MSA Swim Series,Sanctioned Meets
END:VEVENT
BEGIN:VEVENT
DTSTART;TZID="Australia/Melbourne":20210531T080000
DTEND;TZID="Australia/Melbourne":20210604T170000
DTSTAMP:20210224T234412
CREATED:20200228T030821Z
LAST-MODIFIED:20201219T061159Z
UID:3223-1622448000-1622826000@mastersswimming.org.au
SUMMARY:Ocean Swim Fiji - NEW DATES
DESCRIPTION:\nWe are excited to announce new dates: 31 May  – 4 June 2021\n5 days\, 3 swims\, 0 worries – it’s your ultimate swimcation! \nThis truly unique event is the perfect balance of ocean swims in stunning locations\, and flat-out relaxation boasting three breath-taking swims \, all-inclusive travel packages.  Take a closer look at the itinerary for Ocean Swim Fiji 2021 \nWhether you are travelling on your own\, or with a second swimmer or supporter\, there’s a perfect all-inclusive package for you including return airfares\, resort accommodation\, event entry\, transport & transfers\, food and beverage package\, exclusive social events and a goodie bag. \n Take a closer look at Ocean Swim Fiji  you could be there in just a few months! \nSpecial Guest!\nOlympic Legend Shane Gould\nShane Gould is a living legend\, simple as that. As one of Australia’s greatest sporting talents ever\, Shane has carved her place in history as the only female swimmer to win five individual medals in a single Olympics\, the only swimmer in history to hold all freestyle world records at the same time\, she won Australian Survivor last year and runs swimming and safety programmes in Fiji. \nShane is joining us for Ocean Swim Fiji 2021! Stay tuned for more information coming soon… \n  \n
URL:https://mastersswimming.org.au/event/ocean-swim-fiji/
CATEGORIES:International,Open Water Swimming
END:VEVENT
BEGIN:VEVENT
DTSTART;TZID="Australia/Melbourne":20210620T080000
DTEND;TZID="Australia/Melbourne":20210620T170000
DTSTAMP:20210224T234412
CREATED:20201221T032118Z
LAST-MODIFIED:20201221T032118Z
UID:4617-1624176000-1624208400@mastersswimming.org.au
SUMMARY:MSV SC Championships #5 MSA Swim Series
DESCRIPTION:
URL:https://mastersswimmingvic.org.au/event/msv-sc-championships-2021-msa-swim-series-5/#new_tab
CATEGORIES:Branch Championships,MSA Swim Series,Sanctioned Meets
END:VEVENT
BEGIN:VEVENT
DTSTART;TZID="Australia/Melbourne":20210701T080000
DTEND;TZID="Australia/Melbourne":20210831T170000
DTSTAMP:20210224T234412
CREATED:20201216T070027Z
LAST-MODIFIED:20201216T070027Z
UID:4589-1625126400-1630429200@mastersswimming.org.au
SUMMARY:Tuggeranong Trifecta - Postal Swim 2021
DESCRIPTION:Sanction Number: PS 06/2021 \n  \nThree swims\, each in a different stroke: 400m\, 800m\, 1500m\nEntry fee: $25 per swimmer \nMore details to come \n \n  \n
URL:https://mastersswimming.org.au/event/tuggeranong-trifecta-postal-swim-2021/
CATEGORIES:Postal Swims
END:VEVENT
BEGIN:VEVENT
DTSTART;TZID="Australia/Melbourne":20210701T080000
DTEND;TZID="Australia/Melbourne":20210731T170000
DTSTAMP:20210224T234412
CREATED:20201221T034658Z
LAST-MODIFIED:20201221T034658Z
UID:4624-1625126400-1627750800@mastersswimming.org.au
SUMMARY:Toowoomba Tadpoles 1500m Swim in July 2021
DESCRIPTION:More details to come \n
URL:https://mastersswimming.org.au/event/toowoomba-tadpoles-1500m-swim-in-july-2021/
CATEGORIES:Postal Swims
END:VEVENT
BEGIN:VEVENT
DTSTART;TZID="Australia/Melbourne":20210718T080000
DTEND;TZID="Australia/Melbourne":20210718T170000
DTSTAMP:20210224T234412
CREATED:20201208T225025Z
LAST-MODIFIED:20201208T225025Z
UID:4455-1626595200-1626627600@mastersswimming.org.au
SUMMARY:MSSA - 2021 MSA Swim Series #6
DESCRIPTION:This swim is part of the 2021 MSA Swim Series – More details to come \n
URL:https://mastersswimming.org.au/event/mssa-2021-msa-swim-series-6/
CATEGORIES:Branch Championships,MSA Swim Series,Sanctioned Meets
END:VEVENT
BEGIN:VEVENT
DTSTART;TZID="Australia/Melbourne":20210821T133000
DTEND;TZID="Australia/Melbourne":20210822T170000
DTSTAMP:20210224T234412
CREATED:20201123T012536Z
LAST-MODIFIED:20201208T224314Z
UID:4339-1629552600-1629651600@mastersswimming.org.au
SUMMARY:2021 MST Winter Championships - 2021 MSA Swim Series #7
DESCRIPTION:
URL:https://mastersswimmingtasmania.com.au/event/2021-mst-winter-championships/#new_tab
CATEGORIES:Branch Championships,MSA Swim Series,Sanctioned Meets
END:VEVENT
BEGIN:VEVENT
DTSTART;TZID="Australia/Melbourne":20211009T080000
DTEND;TZID="Australia/Melbourne":20211016T170000
DTSTAMP:20210224T234412
CREATED:20200604T231704Z
LAST-MODIFIED:20210118T065343Z
UID:3532-1633766400-1634403600@mastersswimming.org.au
SUMMARY:Australian Masters Games (Perth) MSWA - 2021 MSA Swim Series #8
DESCRIPTION:
URL:https://australianmastersgames.com/sport/swimming/#new_tab
CATEGORIES:Masters Games,MSA Swim Series,Sanctioned Meets
END:VEVENT
BEGIN:VEVENT
DTSTART;TZID="Australia/Melbourne":20211016T080000
DTEND;TZID="Australia/Melbourne":20211017T170000
DTSTAMP:20210224T234412
CREATED:20201208T225457Z
LAST-MODIFIED:20201208T225537Z
UID:4459-1634371200-1634490000@mastersswimming.org.au
SUMMARY:MSNSW SC Championships\, AIS - 2021 MSA Swim Series #9
DESCRIPTION:This is part of the 2021 MSA Swim Series – more details to come \n
URL:https://mastersswimming.org.au/event/msnsw-sc-championships-ais-2021-msa-swim-series-9/
CATEGORIES:Branch Championships,MSA Swim Series,Sanctioned Meets
END:VEVENT
BEGIN:VEVENT
DTSTART;TZID="Australia/Melbourne":20211111T080000
DTEND;TZID="Australia/Melbourne":20211113T170000
DTSTAMP:20210224T234412
CREATED:20201123T011920Z
LAST-MODIFIED:20201202T061155Z
UID:4332-1636617600-1636822800@mastersswimming.org.au
SUMMARY:Pan Pacific Masters Games
DESCRIPTION:
URL:https://mastersswimmingqld.org.au/event/pan-pacific-masters-games-2021/#new_tab
CATEGORIES:International,Masters Games,Sanctioned Meets
END:VEVENT
BEGIN:VEVENT
DTSTART;TZID="Australia/Melbourne":20220513T080000
DTEND;TZID="Australia/Melbourne":20220529T170000
DTSTAMP:20210224T234412
CREATED:20200514T231707Z
LAST-MODIFIED:20210113T232626Z
UID:3486-1652428800-1653843600@mastersswimming.org.au
SUMMARY:World Masters Games 2021 KANSAI (Japan) - date change
DESCRIPTION:
URL:https://www.wmg2021.jp/en/#new_tab
CATEGORIES:International,Masters Games
END:VEVENT
BEGIN:VEVENT
DTSTART;TZID="Australia/Melbourne":20220531T080000
DTEND;TZID="Australia/Melbourne":20220609T170000
DTSTAMP:20210224T234412
CREATED:20190827T075131Z
LAST-MODIFIED:20201202T052701Z
UID:2980-1653984000-1654794000@mastersswimming.org.au
SUMMARY:19th FINA World Masters Swimming Championships – Kyushu (Japan)
DESCRIPTION:
URL:http://www.fina.org/event/19th-fina-world-masters-championships-jpn#new_tab
CATEGORIES:International,Open Water Swimming
END:VEVENT
END:VCALENDAR